BEGIN:VCALENDAR
VERSION:2.0
PRODID:-//New England Bible Church - ECPv6.15.20//NONSGML v1.0//EN
CALSCALE:GREGORIAN
METHOD:PUBLISH
X-WR-CALNAME:New England Bible Church
X-ORIGINAL-URL:https://nebible.org
X-WR-CALDESC:Events for New England Bible Church
REFRESH-INTERVAL;VALUE=DURATION:PT1H
X-Robots-Tag:noindex
X-PUBLISHED-TTL:PT1H
BEGIN:VTIMEZONE
TZID:America/New_York
BEGIN:DAYLIGHT
TZOFFSETFROM:-0500
TZOFFSETTO:-0400
TZNAME:EDT
DTSTART:20250309T070000
END:DAYLIGHT
BEGIN:STANDARD
TZOFFSETFROM:-0400
TZOFFSETTO:-0500
TZNAME:EST
DTSTART:20251102T060000
END:STANDARD
BEGIN:DAYLIGHT
TZOFFSETFROM:-0500
TZOFFSETTO:-0400
TZNAME:EDT
DTSTART:20260308T070000
END:DAYLIGHT
BEGIN:STANDARD
TZOFFSETFROM:-0400
TZOFFSETTO:-0500
TZNAME:EST
DTSTART:20261101T060000
END:STANDARD
BEGIN:DAYLIGHT
TZOFFSETFROM:-0500
TZOFFSETTO:-0400
TZNAME:EDT
DTSTART:20270314T070000
END:DAYLIGHT
BEGIN:STANDARD
TZOFFSETFROM:-0400
TZOFFSETTO:-0500
TZNAME:EST
DTSTART:20271107T060000
END:STANDARD
END:VTIMEZONE
BEGIN:VEVENT
DTSTART;TZID=America/New_York:20260516T090000
DTEND;TZID=America/New_York:20260516T110000
DTSTAMP:20260423T192125
CREATED:20260305T163518Z
LAST-MODIFIED:20260305T163518Z
UID:4233-1778922000-1778929200@nebible.org
SUMMARY:Friends’ Finds
DESCRIPTION:Declutter your closet\, enjoy a delicious brunch prepared by the NEBC Men’s Ministry\, find encouragement for your spirit\, and enjoy fellowship with other sisters in Christ.
URL:https://nebible.org/event/friends-finds/
LOCATION:New England Bible Church\, 60 Chandler Road\, Andover\, 01810\, United States
CATEGORIES:Women's Ministry
ATTACH;FMTTYPE=image/jpeg:https://nebible.org/wp-content/uploads/2021/04/friends-finds-calendar-2022.jpg
ORGANIZER;CN="Leslie Thompson":MAILTO:tylerandles@gmail.com
END:VEVENT
END:VCALENDAR